BEGIN:VCALENDAR
VERSION:2.0
PRODID:-//Elderbridge Agency On Aging - ECPv6.15.20//NONSGML v1.0//EN
CALSCALE:GREGORIAN
METHOD:PUBLISH
X-WR-CALNAME:Elderbridge Agency On Aging
X-ORIGINAL-URL:https://elderbridge.org
X-WR-CALDESC:Events for Elderbridge Agency On Aging
REFRESH-INTERVAL;VALUE=DURATION:PT1H
X-Robots-Tag:noindex
X-PUBLISHED-TTL:PT1H
BEGIN:VTIMEZONE
TZID:UTC
BEGIN:STANDARD
TZOFFSETFROM:+0000
TZOFFSETTO:+0000
TZNAME:UTC
DTSTART:20220101T000000
END:STANDARD
END:VTIMEZONE
BEGIN:VEVENT
DTSTART;TZID=UTC:20231213T110000
DTEND;TZID=UTC:20231213T230000
DTSTAMP:20260423T111559
CREATED:20231128T104040Z
LAST-MODIFIED:20231128T122942Z
UID:9161-1702465200-1702508400@elderbridge.org
SUMMARY:Fresh Conversations in Charles City Senior Center 900 Hulin Ave.
DESCRIPTION:
URL:https://elderbridge.org/events/fresh-conversations-in-charles-city-senior-center-900-hulin-ave/
END:VEVENT
END:VCALENDAR