BEGIN:VCALENDAR
VERSION:2.0
PRODID:-//Elderbridge Agency On Aging - ECPv6.15.20//NONSGML v1.0//EN
CALSCALE:GREGORIAN
METHOD:PUBLISH
X-ORIGINAL-URL:https://elderbridge.org
X-WR-CALDESC:Events for Elderbridge Agency On Aging
REFRESH-INTERVAL;VALUE=DURATION:PT1H
X-Robots-Tag:noindex
X-PUBLISHED-TTL:PT1H
BEGIN:VTIMEZONE
TZID:UTC
BEGIN:STANDARD
TZOFFSETFROM:+0000
TZOFFSETTO:+0000
TZNAME:UTC
DTSTART:20220101T000000
END:STANDARD
END:VTIMEZONE
BEGIN:VEVENT
DTSTART;TZID=UTC:20231128T123000
DTEND;TZID=UTC:20231128T130000
DTSTAMP:20260423T095056
CREATED:20231030T012036Z
LAST-MODIFIED:20231030T012036Z
UID:9108-1701174600-1701176400@elderbridge.org
SUMMARY:Fresh Conversations at Lakes Area Senior Center in Spirit Lake on November 28 at 12:30 PM
DESCRIPTION:
URL:https://elderbridge.org/events/fresh-conversations-at-lakes-area-senior-center-in-spirit-lake-on-november-28-at-1230-pm/
END:VEVENT
END:VCALENDAR