BEGIN:VCALENDAR
VERSION:2.0
PRODID:-//Elderbridge Agency On Aging - ECPv6.15.20//NONSGML v1.0//EN
CALSCALE:GREGORIAN
METHOD:PUBLISH
X-WR-CALNAME:Elderbridge Agency On Aging
X-ORIGINAL-URL:https://elderbridge.org
X-WR-CALDESC:Events for Elderbridge Agency On Aging
REFRESH-INTERVAL;VALUE=DURATION:PT1H
X-Robots-Tag:noindex
X-PUBLISHED-TTL:PT1H
BEGIN:VTIMEZONE
TZID:UTC
BEGIN:STANDARD
TZOFFSETFROM:+0000
TZOFFSETTO:+0000
TZNAME:UTC
DTSTART:20220101T000000
END:STANDARD
END:VTIMEZONE
BEGIN:VEVENT
DTSTART;TZID=UTC:20231117T120000
DTEND;TZID=UTC:20231117T123000
DTSTAMP:20260423T171350
CREATED:20231030T011214Z
LAST-MODIFIED:20231030T011214Z
UID:9101-1700222400-1700224200@elderbridge.org
SUMMARY:Fresh Conversations at Osage Senior Center on November 17 at 12:00 PM
DESCRIPTION:
URL:https://elderbridge.org/events/fresh-conversations-at-osage-senior-center-on-november-17-at-1200-pm/
END:VEVENT
END:VCALENDAR