BEGIN:VCALENDAR
VERSION:2.0
PRODID:-//Elderbridge Agency On Aging - ECPv6.15.20//NONSGML v1.0//EN
CALSCALE:GREGORIAN
METHOD:PUBLISH
X-ORIGINAL-URL:https://elderbridge.org
X-WR-CALDESC:Events for Elderbridge Agency On Aging
REFRESH-INTERVAL;VALUE=DURATION:PT1H
X-Robots-Tag:noindex
X-PUBLISHED-TTL:PT1H
BEGIN:VTIMEZONE
TZID:UTC
BEGIN:STANDARD
TZOFFSETFROM:+0000
TZOFFSETTO:+0000
TZNAME:UTC
DTSTART:20250101T000000
END:STANDARD
END:VTIMEZONE
BEGIN:VEVENT
DTSTART;TZID=UTC:20260421T103000
DTEND;TZID=UTC:20260421T113000
DTSTAMP:20260421T125813
CREATED:20260306T053826Z
LAST-MODIFIED:20260306T053826Z
UID:12007-1776767400-1776771000@elderbridge.org
SUMMARY:Virtual Caregiver Support Group on every Tuesday of the Month via Teams at 10:30 Am to 11:30 AM
DESCRIPTION:
URL:https://elderbridge.org/events/virtual-caregiver-support-group-on-every-tuesday-of-the-month-via-teams-at-1030-am-to-1130-am/2026-04-21/
END:VEVENT
BEGIN:VEVENT
DTSTART;TZID=UTC:20260421T121500
DTEND;TZID=UTC:20260421T124500
DTSTAMP:20260421T125813
CREATED:20260403T020016Z
LAST-MODIFIED:20260403T020120Z
UID:12051-1776773700-1776775500@elderbridge.org
SUMMARY:Fresh Ccnversations on Tuesday\, April 21\, at 12:15 PM in Northwood
DESCRIPTION:
URL:https://elderbridge.org/events/fresh-ccnversations-on-tuesday-april-21-at-1215-pm-in-northwood/
END:VEVENT
BEGIN:VEVENT
DTSTART;TZID=UTC:20260421T123000
DTEND;TZID=UTC:20260421T163000
DTSTAMP:20260421T125813
CREATED:20260403T021639Z
LAST-MODIFIED:20260403T021815Z
UID:12061-1776774600-1776789000@elderbridge.org
SUMMARY:Healthy Steps for Older Adults on May 1\, at 12:30PM to 4:30PM\, at the West Bend Library
DESCRIPTION:
URL:https://elderbridge.org/events/healthy-steps-for-older-adults-on-may-1-at-1230pm-to-430pm-at-the-west-bend-library/
END:VEVENT
BEGIN:VEVENT
DTSTART;TZID=UTC:20260422T111500
DTEND;TZID=UTC:20260422T114500
DTSTAMP:20260421T125813
CREATED:20260403T021131Z
LAST-MODIFIED:20260403T021251Z
UID:12057-1776856500-1776858300@elderbridge.org
SUMMARY:Fresh Conversations on Wednesday\, April 22\, at 11:15AM at Deercreek Apartments
DESCRIPTION:
URL:https://elderbridge.org/events/fresh-conversations-on-wednesday-april-22-at-1115am-at-deercreek-apartments/
END:VEVENT
BEGIN:VEVENT
DTSTART;TZID=UTC:20260423T123000
DTEND;TZID=UTC:20260423T163000
DTSTAMP:20260421T125813
CREATED:20260403T023325Z
LAST-MODIFIED:20260403T023325Z
UID:12070-1776947400-1776961800@elderbridge.org
SUMMARY:Healthy Steps for Older Adults on April 23\, at 12:30PM to 4:30PM\, at the Spencer Public Library
DESCRIPTION:
URL:https://elderbridge.org/events/healthy-steps-for-older-adults-on-april-23-at-1230pm-to-430pm-at-the-spencer-public-library/
END:VEVENT
END:VCALENDAR